BEGIN:VCALENDAR
VERSION:2.0
PRODID:-//Pine Tree Quilters Guild, Inc. - ECPv6.15.20//NONSGML v1.0//EN
CALSCALE:GREGORIAN
METHOD:PUBLISH
X-ORIGINAL-URL:https://mainequilts.org
X-WR-CALDESC:Events for Pine Tree Quilters Guild, Inc.
REFRESH-INTERVAL;VALUE=DURATION:PT1H
X-Robots-Tag:noindex
X-PUBLISHED-TTL:PT1H
BEGIN:VTIMEZONE
TZID:America/New_York
BEGIN:DAYLIGHT
TZOFFSETFROM:-0500
TZOFFSETTO:-0400
TZNAME:EDT
DTSTART:20220313T070000
END:DAYLIGHT
BEGIN:STANDARD
TZOFFSETFROM:-0400
TZOFFSETTO:-0500
TZNAME:EST
DTSTART:20221106T060000
END:STANDARD
BEGIN:DAYLIGHT
TZOFFSETFROM:-0500
TZOFFSETTO:-0400
TZNAME:EDT
DTSTART:20230312T070000
END:DAYLIGHT
BEGIN:STANDARD
TZOFFSETFROM:-0400
TZOFFSETTO:-0500
TZNAME:EST
DTSTART:20231105T060000
END:STANDARD
BEGIN:DAYLIGHT
TZOFFSETFROM:-0500
TZOFFSETTO:-0400
TZNAME:EDT
DTSTART:20240310T070000
END:DAYLIGHT
BEGIN:STANDARD
TZOFFSETFROM:-0400
TZOFFSETTO:-0500
TZNAME:EST
DTSTART:20241103T060000
END:STANDARD
END:VTIMEZONE
BEGIN:VEVENT
DTSTART;TZID=America/New_York:20230128T100000
DTEND;TZID=America/New_York:20230128T150000
DTSTAMP:20260421T140659
CREATED:20220922T142426Z
LAST-MODIFIED:20221214T155513Z
UID:10022-1674900000-1674918000@mainequilts.org
SUMMARY:135th PTQG Members' Meeting
DESCRIPTION:The January Members’ Meeting will be held at Hope Church\, 728 Western Avenue\, Manchester\, Maine\, beginning at 10 a.m. with the business meeting\, show and tell\, and lunch\, followed by the speaker\, Brooke Biette of Dust and Waves Textiles. \nBrooke is a Maine native who moved west\, landing in Arizona for a few years\, and is now back in Maine. She has 30 years of quilting experience and 5 years of self-taught ice and snow dyeing of fabric. Brooke will talk a bit about her dyeing process\, how and why she got started\, how she mixes dyed fabrics with contemporary and vintage fabrics in her projects\, where her project inspiration comes from\, and more. She has a few quilts that she will bring and a bunch of fabric examples. \nYou can check out her website at www.dustandwaves.com. \nWe will also be voting on the budgets for PTQG and for Maine Quilts at this meeting—you can find those documents on pages 11-15 of December issue of Patchwork Press. \nSpecial Events at the January Members’ Meeting  \nHave you ever made a Red\, White\, and Blue quilt? Do you have a special shirt with Stars and Stripes that you wear for the Fourth of July? How about a headband with sparklers? I bet you have something patriotic. Bring or wear it to the January 2023 Members’ Meeting. If Maine Quilts 2023 Special Exhibit can be Christmas in July\, our January Members’ Meeting can feature Summertime in January! \nPlease note that there will not be a snow date for this meeting. Let’s keep our fingers crossed for good weather and hope
URL:https://mainequilts.org/event/ptqg-members-meeting-3/
LOCATION:Hope Baptist Church\, 726 Western Ave.\, Manchester\, ME\, 04351\, United States
CATEGORIES:Members' Meetings
ORGANIZER;CN="Pine Tree Quilters Guild%2C Inc.":MAILTO:President@mainequilts.org
END:VEVENT
END:VCALENDAR