BEGIN:VCALENDAR
VERSION:2.0
PRODID:-//Pine Tree Quilters Guild, Inc. - ECPv6.15.20//NONSGML v1.0//EN
CALSCALE:GREGORIAN
METHOD:PUBLISH
X-ORIGINAL-URL:https://mainequilts.org
X-WR-CALDESC:Events for Pine Tree Quilters Guild, Inc.
REFRESH-INTERVAL;VALUE=DURATION:PT1H
X-Robots-Tag:noindex
X-PUBLISHED-TTL:PT1H
BEGIN:VTIMEZONE
TZID:America/New_York
BEGIN:DAYLIGHT
TZOFFSETFROM:-0500
TZOFFSETTO:-0400
TZNAME:EDT
DTSTART:20210314T070000
END:DAYLIGHT
BEGIN:STANDARD
TZOFFSETFROM:-0400
TZOFFSETTO:-0500
TZNAME:EST
DTSTART:20211107T060000
END:STANDARD
BEGIN:DAYLIGHT
TZOFFSETFROM:-0500
TZOFFSETTO:-0400
TZNAME:EDT
DTSTART:20220313T070000
END:DAYLIGHT
BEGIN:STANDARD
TZOFFSETFROM:-0400
TZOFFSETTO:-0500
TZNAME:EST
DTSTART:20221106T060000
END:STANDARD
BEGIN:DAYLIGHT
TZOFFSETFROM:-0500
TZOFFSETTO:-0400
TZNAME:EDT
DTSTART:20230312T070000
END:DAYLIGHT
BEGIN:STANDARD
TZOFFSETFROM:-0400
TZOFFSETTO:-0500
TZNAME:EST
DTSTART:20231105T060000
END:STANDARD
END:VTIMEZONE
BEGIN:VEVENT
DTSTART;TZID=America/New_York:20221008T090000
DTEND;TZID=America/New_York:20221008T150000
DTSTAMP:20260421T181704
CREATED:20220605T155944Z
LAST-MODIFIED:20220605T155944Z
UID:9533-1665219600-1665241200@mainequilts.org
SUMMARY:Clueless Quilters Quilt Show
DESCRIPTION:The Clueless Quilters are hosting a quilt show on Saturday October 8 from 9 am to 3 pm.\nLocation: The Meeting House on Route 222\, Stetson\, ME\nThere will be quilt and craft vendors\, tea cut raffle\, and sales table.\nLunch will be available.\nFree admission. Donations accepted.
URL:https://mainequilts.org/event/clueless-quilters-quilt-show-2/
LOCATION:The Meeting House\, Route 222\, Stetson\, ME\, United States
CATEGORIES:Area & Chapter Events
END:VEVENT
BEGIN:VEVENT
DTSTART;TZID=America/New_York:20221015T100000
DTEND;TZID=America/New_York:20221015T140000
DTSTAMP:20260421T181704
CREATED:20220817T150717Z
LAST-MODIFIED:20220817T150717Z
UID:9899-1665828000-1665842400@mainequilts.org
SUMMARY:Area 5 Meeting
DESCRIPTION:Area 5 Meeting\nHost: Hancock County Quilters\nOctober 15\, 2022 @ 10 am – 2 pm\nLocation: St. Andrew Lutheran Church\, 175 Douglas Hwy (corner of Routes 184 & 1)\, Ellsworth.\n\n10 a.m. – 11 a.m.  Socializing and Area 5 business\n11 a.m. –  12 p.m. Program\n12 p.m. – 2 p.m.  Personal brown bag lunch with desserts and beverages provided by the host chapter and Show & Tell \n\nSuggested donation to attend: $3.00\n\n\n\nGuest Speaker(s):  Abby Gilchrist (Fiddlehead Artisan Supply) and Amelia Poole (Ecouture)\, Maine co-authors of “Modern Fabric: Twenty-Five Designers on Their Inspiration and Craft” \n\n\n\nWhat to Bring: \n\n\n\n\nName tag\nBrown Bag Lunch w/place setting\nCompleted quilts for show and tell (1 only please)\nCompleted leaf block for a drawing (If you bring a block\, a tree’s worth of quilty leaves could be won!)\n\n\n\n\n\nAs in years past\, we are inviting members to make and bring with them a 6-inch finished (6.5-inch unfinished) block for a drawing.  This year we have chosen the very easy maple leaf block shown below.  Color suggestions:  fall colors (reds\, oranges\, yellows\, or green) for the leaf\, and blues or creams (light or medium) for the background. \n\n\nFor easy instructions on constructing the block\, please visit the following link or consult your favorite quilting resource: \n\n\nhttps://www.diaryofaquilter.com/classic-maple-leaf-quilt-block-tutorial/  (6 inch block) \n\n \n\n\n\n \n  \n\n\n\nWe will also have a quilt-themed gift basket drawing (suggested donation $2.00) and door prizes for attendees\, as well as beverages and desserts to go with your brown bag lunch. \n\n \n\nSo please join us in our new meeting space at the Lutheran Church in Ellsworth!  We look forward to seeing your lovely faces (not on zoom!). \n\n \n\nPlease RSVP by 10/1 to one of the following HCQ members so we know how many to plan for: \n\n\nPresident Jenny Folsom\, hancockquilters@gmail.com \n\n\nVice-president Kathy Snow\,  kathyjbsnow@gmail.com\, 207-412-9753 \n\n\nChapter member Ramune Dailide\, toddycottage@gmail.com 
URL:https://mainequilts.org/event/area-5-meeting/
LOCATION:St. Andrew Lutheran Church\, 175 Douglas Hwy\, Ellsworth\, ME\, 04605\, United States
CATEGORIES:Area & Chapter Events
END:VEVENT
BEGIN:VEVENT
DTSTART;TZID=America/New_York:20221018T170000
DTEND;TZID=America/New_York:20221018T200000
DTSTAMP:20260421T181704
CREATED:20220908T142632Z
LAST-MODIFIED:20220908T142738Z
UID:9980-1666112400-1666123200@mainequilts.org
SUMMARY:Area 4 Fall Meeting
DESCRIPTION:“ Anything Goes Fashion Show”\n\nPlanned by – Backroad Quilter’s\n\nLunch will be provided.\nAdmission: $5.00\n\nWear or bring a  (new or loved) fashion item you have made and/or a quilt for Show and Tell.  Maybe your whole Chapter had a workshop and made items you could share and tell about.\n\nWe will need a head count by October 10th. We realize some may not like to drive home at night. We suggest car pooling with someone who could pick you up.\n\n RSVP to Jane Hann-Morey  207- 622-0343     jehmquilts2@gmail.com\n\nCome and join the fun.
URL:https://mainequilts.org/event/area-4-fall-meeting/
LOCATION:Hope Baptist Church\, 726 Western Ave.\, Manchester\, ME\, 04351\, United States
CATEGORIES:Area & Chapter Events
ORGANIZER;CN="Backroad Quilters":MAILTO:jehmquilts2@gmail.com
END:VEVENT
END:VCALENDAR