BEGIN:VCALENDAR
VERSION:2.0
PRODID:-//Pine Tree Quilters Guild, Inc. - ECPv6.15.20//NONSGML v1.0//EN
CALSCALE:GREGORIAN
METHOD:PUBLISH
X-ORIGINAL-URL:https://mainequilts.org
X-WR-CALDESC:Events for Pine Tree Quilters Guild, Inc.
REFRESH-INTERVAL;VALUE=DURATION:PT1H
X-Robots-Tag:noindex
X-PUBLISHED-TTL:PT1H
BEGIN:VTIMEZONE
TZID:America/New_York
BEGIN:DAYLIGHT
TZOFFSETFROM:-0500
TZOFFSETTO:-0400
TZNAME:EDT
DTSTART:20250309T070000
END:DAYLIGHT
BEGIN:STANDARD
TZOFFSETFROM:-0400
TZOFFSETTO:-0500
TZNAME:EST
DTSTART:20251102T060000
END:STANDARD
BEGIN:DAYLIGHT
TZOFFSETFROM:-0500
TZOFFSETTO:-0400
TZNAME:EDT
DTSTART:20260308T070000
END:DAYLIGHT
BEGIN:STANDARD
TZOFFSETFROM:-0400
TZOFFSETTO:-0500
TZNAME:EST
DTSTART:20261101T060000
END:STANDARD
BEGIN:DAYLIGHT
TZOFFSETFROM:-0500
TZOFFSETTO:-0400
TZNAME:EDT
DTSTART:20270314T070000
END:DAYLIGHT
BEGIN:STANDARD
TZOFFSETFROM:-0400
TZOFFSETTO:-0500
TZNAME:EST
DTSTART:20271107T060000
END:STANDARD
END:VTIMEZONE
BEGIN:VEVENT
DTSTART;TZID=America/New_York:20260516T100000
DTEND;TZID=America/New_York:20260516T150000
DTSTAMP:20260420T041351
CREATED:20260419T140858Z
LAST-MODIFIED:20260419T141139Z
UID:18439-1778925600-1778943600@mainequilts.org
SUMMARY:Presumpscot Quilters Quilt Show
DESCRIPTION:Join us for a colorful celebration of quilting traditions\, artistry and textile innovation on May 16th at the Warren Congregational Church located at 810 Main Street\, Westbrook\, Maine from 10:00 a.m. to 3:00 p.m. \nMany Beautiful Quilts will be on Display. \nEnter a Quilt Raffle. \nFree Admission\, Donations Appreciated. \n  \n 
URL:https://mainequilts.org/event/presumpscot-quilters-quilt-show/
LOCATION:Warren Congregational Church\, 810 Main Street\, Westbrook\, ME\, 04092\, United States
CATEGORIES:Area & Chapter Events,Quilt Shows
END:VEVENT
BEGIN:VEVENT
DTSTART;TZID=America/New_York:20260917T130000
DTEND;TZID=America/New_York:20260917T150000
DTSTAMP:20260420T041351
CREATED:20251110T134236Z
LAST-MODIFIED:20260112T235036Z
UID:17429-1789650000-1789657200@mainequilts.org
SUMMARY:Area 1 Meeting - Hosted by Presumpscot Quilters featuring International Textile Artist\, MJ Kinman
DESCRIPTION:Area 1 Meeting hosted by Presumpscot Quilters featuring International Textile Artist\, MJ Kinman.  This meeting is scheduled for September 17\, 2026 from 1:00 to 3:00 pm.  The Location to be Announced at a later date. \nGuest Speaker: MJ Kinman presenting “The Magic of Color Interaction”  MJ Kinman is passionate about using innovative quilting techniques to create quilts inspired by color theory and sparkling gems.  Her artistry has been exhibited at national and international quilt shows\, events and museums.   MJ has won multiple prestigous awards for her work.  She has published two books\, “Gemstone Quilts” and new in 2025 “Crack the Color Code”.  Please visit https://mjkinman.com
URL:https://mainequilts.org/event/area-1-meeting-hosted-by-presumpscot-quilters-featuring-international-textile-artist-mj-kinman/
LOCATION:ME
CATEGORIES:Area & Chapter Events
END:VEVENT
END:VCALENDAR