BEGIN:VCALENDAR
VERSION:2.0
PRODID:-//Pine Tree Quilters Guild, Inc. - ECPv6.15.20//NONSGML v1.0//EN
CALSCALE:GREGORIAN
METHOD:PUBLISH
X-ORIGINAL-URL:https://mainequilts.org
X-WR-CALDESC:Events for Pine Tree Quilters Guild, Inc.
REFRESH-INTERVAL;VALUE=DURATION:PT1H
X-Robots-Tag:noindex
X-PUBLISHED-TTL:PT1H
BEGIN:VTIMEZONE
TZID:America/New_York
BEGIN:DAYLIGHT
TZOFFSETFROM:-0500
TZOFFSETTO:-0400
TZNAME:EDT
DTSTART:20210314T070000
END:DAYLIGHT
BEGIN:STANDARD
TZOFFSETFROM:-0400
TZOFFSETTO:-0500
TZNAME:EST
DTSTART:20211107T060000
END:STANDARD
BEGIN:DAYLIGHT
TZOFFSETFROM:-0500
TZOFFSETTO:-0400
TZNAME:EDT
DTSTART:20220313T070000
END:DAYLIGHT
BEGIN:STANDARD
TZOFFSETFROM:-0400
TZOFFSETTO:-0500
TZNAME:EST
DTSTART:20221106T060000
END:STANDARD
BEGIN:DAYLIGHT
TZOFFSETFROM:-0500
TZOFFSETTO:-0400
TZNAME:EDT
DTSTART:20230312T070000
END:DAYLIGHT
BEGIN:STANDARD
TZOFFSETFROM:-0400
TZOFFSETTO:-0500
TZNAME:EST
DTSTART:20231105T060000
END:STANDARD
END:VTIMEZONE
BEGIN:VEVENT
DTSTART;TZID=America/New_York:20221018T170000
DTEND;TZID=America/New_York:20221018T200000
DTSTAMP:20260421T195726
CREATED:20220908T142632Z
LAST-MODIFIED:20220908T142738Z
UID:9980-1666112400-1666123200@mainequilts.org
SUMMARY:Area 4 Fall Meeting
DESCRIPTION:“ Anything Goes Fashion Show”\n\nPlanned by – Backroad Quilter’s\n\nLunch will be provided.\nAdmission: $5.00\n\nWear or bring a  (new or loved) fashion item you have made and/or a quilt for Show and Tell.  Maybe your whole Chapter had a workshop and made items you could share and tell about.\n\nWe will need a head count by October 10th. We realize some may not like to drive home at night. We suggest car pooling with someone who could pick you up.\n\n RSVP to Jane Hann-Morey  207- 622-0343     jehmquilts2@gmail.com\n\nCome and join the fun.
URL:https://mainequilts.org/event/area-4-fall-meeting/
LOCATION:Hope Baptist Church\, 726 Western Ave.\, Manchester\, ME\, 04351\, United States
CATEGORIES:Area & Chapter Events
ORGANIZER;CN="Backroad Quilters":MAILTO:jehmquilts2@gmail.com
END:VEVENT
END:VCALENDAR