BEGIN:VCALENDAR
VERSION:2.0
PRODID:-//Pine Tree Quilters Guild, Inc. - ECPv6.15.20//NONSGML v1.0//EN
CALSCALE:GREGORIAN
METHOD:PUBLISH
X-WR-CALNAME:Pine Tree Quilters Guild, Inc.
X-ORIGINAL-URL:https://mainequilts.org
X-WR-CALDESC:Events for Pine Tree Quilters Guild, Inc.
REFRESH-INTERVAL;VALUE=DURATION:PT1H
X-Robots-Tag:noindex
X-PUBLISHED-TTL:PT1H
BEGIN:VTIMEZONE
TZID:America/New_York
BEGIN:DAYLIGHT
TZOFFSETFROM:-0500
TZOFFSETTO:-0400
TZNAME:EDT
DTSTART:20210314T070000
END:DAYLIGHT
BEGIN:STANDARD
TZOFFSETFROM:-0400
TZOFFSETTO:-0500
TZNAME:EST
DTSTART:20211107T060000
END:STANDARD
BEGIN:DAYLIGHT
TZOFFSETFROM:-0500
TZOFFSETTO:-0400
TZNAME:EDT
DTSTART:20220313T070000
END:DAYLIGHT
BEGIN:STANDARD
TZOFFSETFROM:-0400
TZOFFSETTO:-0500
TZNAME:EST
DTSTART:20221106T060000
END:STANDARD
BEGIN:DAYLIGHT
TZOFFSETFROM:-0500
TZOFFSETTO:-0400
TZNAME:EDT
DTSTART:20230312T070000
END:DAYLIGHT
BEGIN:STANDARD
TZOFFSETFROM:-0400
TZOFFSETTO:-0500
TZNAME:EST
DTSTART:20231105T060000
END:STANDARD
END:VTIMEZONE
BEGIN:VEVENT
DTSTART;TZID=America/New_York:20220910T100000
DTEND;TZID=America/New_York:20220910T150000
DTSTAMP:20260421T211735
CREATED:20220817T153126Z
LAST-MODIFIED:20220922T142551Z
UID:9908-1662804000-1662822000@mainequilts.org
SUMMARY:134th PTQG Members' Meeting
DESCRIPTION:The business meeting will begin at 10:00\, followed by show and tell and lunch. We will be voting on new Board members for the 2022-2023 year! After lunch Lynn Wheatley from Vermont will be the featured speaker. Lynn’s lecture is titled “Rocket Scientist to Rotary Cutter and Beyond.” This is the story of her quilting journey. \nSpecial Events at September Members’ Meeting! \n\nRedwork Display! We Love Redwork! You know\, all the outline designs of very small stitches done in red embroidery floss. I bet if you don’t have one that you use every day\, you have something special hidden away. Let’s bring them out into the light for the September Members’ Meeting. Bring your favorite redwork quilt\, table runner\, or other item and share its story with the rest of us. Perhaps we will even have designs to share? See you then.\n“Don’t Forget the Bobber!” Everyone having fun making their fish blocks and quilt tops for our Special Event project quilt? Let’s show and tell at the next Members’ Meeting on September 10. Can’t wait to see what your fish looks like!
URL:https://mainequilts.org/event/ptqg-members-meeting-2/
LOCATION:Hope Baptist Church\, 726 Western Ave.\, Manchester\, ME\, 04351\, United States
CATEGORIES:Members' Meetings
ORGANIZER;CN="Pine Tree Quilters Guild%2C Inc.":MAILTO:President@mainequilts.org
END:VEVENT
END:VCALENDAR