BEGIN:VCALENDAR
VERSION:2.0
PRODID:-//Pine Tree Quilters Guild, Inc. - ECPv6.15.20//NONSGML v1.0//EN
CALSCALE:GREGORIAN
METHOD:PUBLISH
X-WR-CALNAME:Pine Tree Quilters Guild, Inc.
X-ORIGINAL-URL:https://mainequilts.org
X-WR-CALDESC:Events for Pine Tree Quilters Guild, Inc.
REFRESH-INTERVAL;VALUE=DURATION:PT1H
X-Robots-Tag:noindex
X-PUBLISHED-TTL:PT1H
BEGIN:VTIMEZONE
TZID:America/New_York
BEGIN:DAYLIGHT
TZOFFSETFROM:-0500
TZOFFSETTO:-0400
TZNAME:EDT
DTSTART:20210314T070000
END:DAYLIGHT
BEGIN:STANDARD
TZOFFSETFROM:-0400
TZOFFSETTO:-0500
TZNAME:EST
DTSTART:20211107T060000
END:STANDARD
BEGIN:DAYLIGHT
TZOFFSETFROM:-0500
TZOFFSETTO:-0400
TZNAME:EDT
DTSTART:20220313T070000
END:DAYLIGHT
BEGIN:STANDARD
TZOFFSETFROM:-0400
TZOFFSETTO:-0500
TZNAME:EST
DTSTART:20221106T060000
END:STANDARD
BEGIN:DAYLIGHT
TZOFFSETFROM:-0500
TZOFFSETTO:-0400
TZNAME:EDT
DTSTART:20230312T070000
END:DAYLIGHT
BEGIN:STANDARD
TZOFFSETFROM:-0400
TZOFFSETTO:-0500
TZNAME:EST
DTSTART:20231105T060000
END:STANDARD
END:VTIMEZONE
BEGIN:VEVENT
DTSTART;TZID=America/New_York:20220708T100000
DTEND;TZID=America/New_York:20220710T150000
DTSTAMP:20260422T002414
CREATED:20220512T151430Z
LAST-MODIFIED:20220512T151430Z
UID:9448-1657274400-1657465200@mainequilts.org
SUMMARY:Ocean Waves Quilters Quilt Show
DESCRIPTION:26th Annual Quilt Show sponsored by Ocean Waves Quilters of Orr’s and Bailey Islands. \nJuly 8\, 9\, & 10\nFriday & Saturday 10 am – 4 pm\nSunday 10 am – 3 pm \nOrr’s Island Schoolhouse\nRoute 24 \nFree Admission\, Donanations Accepted
URL:https://mainequilts.org/event/ocean-waves-quilters-quilt-show/
LOCATION:Orr’s Island Schoolhouse\, 1594 Harpswell Islands Rd\, Orr's Island\, ME\, United States
CATEGORIES:Area & Chapter Events
END:VEVENT
BEGIN:VEVENT
DTSTART;TZID=America/New_York:20220709T100000
DTEND;TZID=America/New_York:20220710T160000
DTSTAMP:20260422T002414
CREATED:20220512T152854Z
LAST-MODIFIED:20220512T153056Z
UID:9452-1657360800-1657468800@mainequilts.org
SUMMARY:Chickadee Quilters Quilt Show
DESCRIPTION:41st Annual Quilt Show sponsored by Chickadee Quilters. \nQuilt Exhibits – Demonstrations – Vendor Area – Yard Sale – Chickadee Auction – Cafe \nJuly 9 & 10\n10 am – 4 pm \nStevens Brook Elementary School\nOff Route 302\nBridgton\, Maine \nDonations at the door $5 \nFor information\, contact chickadeequiltersme@gmail.com
URL:https://mainequilts.org/event/chickadee-quilters-quilt-show/
LOCATION:Stevens Brook Elementary School\, 14 Frances Bell Dr\, Bridgton\, ME\, 04009\, United States
CATEGORIES:Area & Chapter Events
ORGANIZER;CN="Chickadee Quilters":MAILTO:chickadeequiltersme@gmail.com
END:VEVENT
END:VCALENDAR