BEGIN:VCALENDAR
VERSION:2.0
PRODID:-//Pine Tree Quilters Guild, Inc. - ECPv6.15.20//NONSGML v1.0//EN
CALSCALE:GREGORIAN
METHOD:PUBLISH
X-WR-CALNAME:Pine Tree Quilters Guild, Inc.
X-ORIGINAL-URL:https://mainequilts.org
X-WR-CALDESC:Events for Pine Tree Quilters Guild, Inc.
REFRESH-INTERVAL;VALUE=DURATION:PT1H
X-Robots-Tag:noindex
X-PUBLISHED-TTL:PT1H
BEGIN:VTIMEZONE
TZID:America/New_York
BEGIN:DAYLIGHT
TZOFFSETFROM:-0500
TZOFFSETTO:-0400
TZNAME:EDT
DTSTART:20210314T070000
END:DAYLIGHT
BEGIN:STANDARD
TZOFFSETFROM:-0400
TZOFFSETTO:-0500
TZNAME:EST
DTSTART:20211107T060000
END:STANDARD
BEGIN:DAYLIGHT
TZOFFSETFROM:-0500
TZOFFSETTO:-0400
TZNAME:EDT
DTSTART:20220313T070000
END:DAYLIGHT
BEGIN:STANDARD
TZOFFSETFROM:-0400
TZOFFSETTO:-0500
TZNAME:EST
DTSTART:20221106T060000
END:STANDARD
BEGIN:DAYLIGHT
TZOFFSETFROM:-0500
TZOFFSETTO:-0400
TZNAME:EDT
DTSTART:20230312T070000
END:DAYLIGHT
BEGIN:STANDARD
TZOFFSETFROM:-0400
TZOFFSETTO:-0500
TZNAME:EST
DTSTART:20231105T060000
END:STANDARD
END:VTIMEZONE
BEGIN:VEVENT
DTSTART;TZID=America/New_York:20220604T100000
DTEND;TZID=America/New_York:20220604T150000
DTSTAMP:20260422T020016
CREATED:20220512T144650Z
LAST-MODIFIED:20220512T144904Z
UID:9443-1654336800-1654354800@mainequilts.org
SUMMARY:Calico Quilter's Yard Sale
DESCRIPTION:Fabric\, Books\, Rulers\, Notions\, Batting\, Thread\, Containers\, Patterns\, Baskets\, Books. You name it – we have it!
URL:https://mainequilts.org/event/calico-quilters-yard-sale/
LOCATION:Calico Quilters Yard Sale\, 314 Brown Rd.\, Pownal\, ME\, United States
CATEGORIES:Area & Chapter Events
END:VEVENT
END:VCALENDAR